BEGIN:VCALENDAR
VERSION:2.0
PRODID:-//Living Light Christian Church - ECPv6.15.20//NONSGML v1.0//EN
CALSCALE:GREGORIAN
METHOD:PUBLISH
X-ORIGINAL-URL:https://www.livinglightchurch.com
X-WR-CALDESC:Events for Living Light Christian Church
REFRESH-INTERVAL;VALUE=DURATION:PT1H
X-Robots-Tag:noindex
X-PUBLISHED-TTL:PT1H
BEGIN:VTIMEZONE
TZID:America/Chicago
BEGIN:DAYLIGHT
TZOFFSETFROM:-0600
TZOFFSETTO:-0500
TZNAME:CDT
DTSTART:20220313T080000
END:DAYLIGHT
BEGIN:STANDARD
TZOFFSETFROM:-0500
TZOFFSETTO:-0600
TZNAME:CST
DTSTART:20221106T070000
END:STANDARD
BEGIN:DAYLIGHT
TZOFFSETFROM:-0600
TZOFFSETTO:-0500
TZNAME:CDT
DTSTART:20230312T080000
END:DAYLIGHT
BEGIN:STANDARD
TZOFFSETFROM:-0500
TZOFFSETTO:-0600
TZNAME:CST
DTSTART:20231105T070000
END:STANDARD
BEGIN:DAYLIGHT
TZOFFSETFROM:-0600
TZOFFSETTO:-0500
TZNAME:CDT
DTSTART:20240310T080000
END:DAYLIGHT
BEGIN:STANDARD
TZOFFSETFROM:-0500
TZOFFSETTO:-0600
TZNAME:CST
DTSTART:20241103T070000
END:STANDARD
BEGIN:DAYLIGHT
TZOFFSETFROM:-0600
TZOFFSETTO:-0500
TZNAME:CDT
DTSTART:20250309T080000
END:DAYLIGHT
BEGIN:STANDARD
TZOFFSETFROM:-0500
TZOFFSETTO:-0600
TZNAME:CST
DTSTART:20251102T070000
END:STANDARD
END:VTIMEZONE
BEGIN:VEVENT
DTSTART;VALUE=DATE:20240808
DTEND;VALUE=DATE:20240812
DTSTAMP:20260422T031736
CREATED:20240123T183433Z
LAST-MODIFIED:20240123T215158Z
UID:1903-1723075200-1723420799@www.livinglightchurch.com
SUMMARY:Green Lake Family Camp (Kenosha & Racine)
DESCRIPTION:Living Light Kenosha & Racine \nSave the date for our biennial Green Lake Family Camp! This is an opportunity for our local Living Light church families to gather for time together in God’s presence\, in the Word\, and for plenty of outdoor activities and fun. \nMore details to come!
URL:https://www.livinglightchurch.com/event/green-lake-family-camp/
LOCATION:Green Lake Conference Center\, W2511 WI-23\, Green Lake\, WI\, 54941\, United States
CATEGORIES:Living Light Kenosha,Living Light Racine
ATTACH;FMTTYPE=image/png:https://www.livinglightchurch.com/wp-content/uploads/2024/01/Green-Lake-2024-Save-the-Date.png
END:VEVENT
BEGIN:VEVENT
DTSTART;TZID=America/Chicago:20230406T060000
DTEND;TZID=America/Chicago:20230406T070000
DTSTAMP:20260422T031736
CREATED:20230426T023318Z
LAST-MODIFIED:20240123T215350Z
UID:1668-1680760800-1680764400@www.livinglightchurch.com
SUMMARY:Morning Prayer (Kenosha)
DESCRIPTION:Living Light Kenosha \nJoin us each week for an open time of corporate prayer. What a great way to start off your morning!
URL:https://www.livinglightchurch.com/event/morning-prayer/
LOCATION:Living Light Christian Church\, Kenosha\, 6102 39th Ave.\, Kenosha\, WI\, 53142\, United States
CATEGORIES:Living Light Kenosha
ATTACH;FMTTYPE=image/jpeg:https://www.livinglightchurch.com/wp-content/uploads/2023/04/Morning-Prayer-1920x1080-1.jpg
ORGANIZER;CN="Living Light Kenosha":MAILTO:kenosha@livinglightchurch.com
END:VEVENT
END:VCALENDAR